BEGIN:VCALENDAR
VERSION:2.0
PRODID:-//wp-events-plugin.com//7.2.3.1//EN
BEGIN:VEVENT
UID:27@sintercafe.com
DTSTART;TZID=America/Costa_Rica:20241115T111500
DTEND;TZID=America/Costa_Rica:20241115T114500
DTSTAMP:20241010T173538Z
URL:https://sintercafe.com/events/brown-brothers-harriman/
SUMMARY:"Looking Forward: US Economic Outlook" / "Mirando hacia adelante: P
 erspectivas económicas de EE. UU." - Mr. Faustino Cortina\, Brown Brother
 s Harriman
DESCRIPTION:
ATTACH;FMTTYPE=image/jpeg:https://sintercafe.com/wp-content/uploads/2024/0
 9/Faustino-Cortina.jpg
CATEGORIES:Friday
END:VEVENT
BEGIN:VTIMEZONE
TZID:America/Costa_Rica
X-LIC-LOCATION:America/Costa_Rica
BEGIN:STANDARD
DTSTART:20231116T111500
TZOFFSETFROM:-0600
TZOFFSETTO:-0600
TZNAME:CST
END:STANDARD
END:VTIMEZONE
END:VCALENDAR