BEGIN:VCALENDAR
VERSION:2.0
PRODID:-//wp-events-plugin.com//7.2.3.1//EN
BEGIN:VEVENT
UID:12@sintercafe.com
DTSTART;TZID=America/Costa_Rica:20241114T093000
DTEND;TZID=America/Costa_Rica:20241114T100000
DTSTAMP:20241010T173408Z
URL:https://sintercafe.com/events/cafe-de-costa-rica/
SUMMARY:"Innovation and Regulation: The two paths of the coffee culture tra
 nsformation." / "Innovación y regulación:  Los dos caminos de la transfo
 rmación de la caficultura" - Mr. Gustavo Jiménez\, ICAFE
DESCRIPTION:
ATTACH;FMTTYPE=image/jpeg:https://sintercafe.com/wp-content/uploads/2024/0
 9/Gustavo-Andre.jpg
CATEGORIES:Thursday
END:VEVENT
BEGIN:VTIMEZONE
TZID:America/Costa_Rica
X-LIC-LOCATION:America/Costa_Rica
BEGIN:STANDARD
DTSTART:20231115T093000
TZOFFSETFROM:-0600
TZOFFSETTO:-0600
TZNAME:CST
END:STANDARD
END:VTIMEZONE
END:VCALENDAR