BEGIN:VCALENDAR
VERSION:2.0
PRODID:-//wp-events-plugin.com//7.2.3.1//EN
BEGIN:VEVENT
UID:22@sintercafe.com
DTSTART;TZID=America/Costa_Rica;VALUE=DATE:20241115
DTEND;TZID=America/Costa_Rica;VALUE=DATE:20241116
DTSTAMP:20240914T200722Z
URL:https://sintercafe.com/events/coffee-service-2/
SUMMARY:Coffee service / Servicio de café
DESCRIPTION:
ATTACH;FMTTYPE=image/jpeg:https://sintercafe.com/wp-content/uploads/2024/0
 7/taza-de-cafe.png
CATEGORIES:Friday
END:VEVENT
BEGIN:VTIMEZONE
TZID:America/Costa_Rica
X-LIC-LOCATION:America/Costa_Rica
BEGIN:STANDARD
DTSTART:20231116T000000
TZOFFSETFROM:-0600
TZOFFSETTO:-0600
TZNAME:CST
END:STANDARD
END:VTIMEZONE
END:VCALENDAR