BEGIN:VCALENDAR
VERSION:2.0
PRODID:-//wp-events-plugin.com//7.2.3.1//EN
BEGIN:VEVENT
UID:45@sintercafe.com
DTSTART;TZID=America/Costa_Rica:20241115T140000
DTEND;TZID=America/Costa_Rica:20241115T160000
DTSTAMP:20241024T200645Z
URL:https://sintercafe.com/events/cupping-room-coffee-value-assessment-sca
 -mr-luiz-roberto-saldanha/
SUMMARY:Cupping Room - A New System to Assess Coffee Value: Understanding t
 he CVA-SCA\, Mr. Luiz Roberto Saldanha\, Capricornio Coffees / CVA Ambassa
 dor / Cupping Room - Un nuevo sistema para evaluar el valor del café: Com
 prender el CVA de la SCA\, Sr. Luiz Roberto Saldanha\, Capricornio Coffees
  / CVA Ambassador
DESCRIPTION:
ATTACH;FMTTYPE=image/jpeg:https://sintercafe.com/wp-content/uploads/2024/1
 0/Luiz-Roberto-Saldanha.jpg
CATEGORIES:Friday
END:VEVENT
BEGIN:VTIMEZONE
TZID:America/Costa_Rica
X-LIC-LOCATION:America/Costa_Rica
BEGIN:STANDARD
DTSTART:20231116T140000
TZOFFSETFROM:-0600
TZOFFSETTO:-0600
TZNAME:CST
END:STANDARD
END:VTIMEZONE
END:VCALENDAR