BEGIN:VCALENDAR
VERSION:2.0
PRODID:-//wp-events-plugin.com//7.2.3.1//EN
BEGIN:VEVENT
UID:19@sintercafe.com
DTSTART;TZID=America/Costa_Rica:20241114T140000
DTEND;TZID=America/Costa_Rica:20241114T143000
DTSTAMP:20241111T190850Z
URL:https://sintercafe.com/events/david-palazuelos-al-grano/
SUMMARY:"Information Asymmetry in the Trade" / "Asimetría de Información 
 en el Comercio" - Yannick Lauber\, Al Grano
DESCRIPTION:
ATTACH;FMTTYPE=image/jpeg:https://sintercafe.com/wp-content/uploads/2024/1
 1/Yannik.jpeg
CATEGORIES:Thursday
END:VEVENT
BEGIN:VTIMEZONE
TZID:America/Costa_Rica
X-LIC-LOCATION:America/Costa_Rica
BEGIN:STANDARD
DTSTART:20231115T140000
TZOFFSETFROM:-0600
TZOFFSETTO:-0600
TZNAME:CST
END:STANDARD
END:VTIMEZONE
END:VCALENDAR