BEGIN:VCALENDAR
VERSION:2.0
PRODID:-//wp-events-plugin.com//7.2.3.1//EN
BEGIN:VEVENT
UID:41@sintercafe.com
DTSTART;TZID=America/Costa_Rica:20241114T090000
DTEND;TZID=America/Costa_Rica:20241114T093000
DTSTAMP:20241011T190215Z
URL:https://sintercafe.com/events/facing-climate-change-head-on-a-high-lev
 el-summary-of-key-climate-trends-challenges-and-opportunities-mr-daniel-ma
 son-dcroz-cornell-atkinson-center-for-sustainability-2/
SUMMARY:"Facing climate change head-on. A high-level summary of key climate
  trends\, challenges\, and opportunities." / "Enfrentando el cambio climá
 tico de manera directa. Resumen de las principales tendencias climáticas\
 , desafíos y oportunidades." - Mr. Daniel Mason-D’Croz\, Cornell Atkins
 on Center for Sustainability
DESCRIPTION:
ATTACH;FMTTYPE=image/jpeg:https://sintercafe.com/wp-content/uploads/2024/0
 8/Daniel-Mason-D´Croz.jpg
CATEGORIES:Thursday
END:VEVENT
BEGIN:VTIMEZONE
TZID:America/Costa_Rica
X-LIC-LOCATION:America/Costa_Rica
BEGIN:STANDARD
DTSTART:20231115T090000
TZOFFSETFROM:-0600
TZOFFSETTO:-0600
TZNAME:CST
END:STANDARD
END:VTIMEZONE
END:VCALENDAR