BEGIN:VCALENDAR
VERSION:2.0
PRODID:-//wp-events-plugin.com//7.2.3.1//EN
BEGIN:VEVENT
UID:2@sintercafe.com
DTSTART:20241113T130000Z
DTEND:20241113T160000Z
DTSTAMP:20240913T142243Z
URL:https://sintercafe.com/events/farm-visit-beneficio-la-eva/
SUMMARY:Farm visit Beneficio LA EVA / Visita a Beneficio La Eva
DESCRIPTION:
ATTACH;FMTTYPE=image/jpeg:https://sintercafe.com/wp-content/uploads/2024/0
 7/drying.png
CATEGORIES:Wednesday
END:VEVENT
END:VCALENDAR