BEGIN:VCALENDAR
VERSION:2.0
PRODID:-//wp-events-plugin.com//7.2.3.1//EN
BEGIN:VEVENT
UID:46@sintercafe.com
DTSTART;TZID=America/Costa_Rica:20241115T143000
DTEND;TZID=America/Costa_Rica:20241115T150000
DTSTAMP:20241010T174016Z
URL:https://sintercafe.com/events/hermosa-1-room-global-coffee-platform-co
 nnect-to-the-coffee-sr-code-conectando-el-codigo-sr-al-cafe-annette-pensel
 -pedro-ronca/
SUMMARY:Hermosa 1 Room - Global Coffee Platform: “Connect to the Coffee S
 R Code" / “Conectando el Código SR al Café" - Annette Pensel & Pedro R
 onca
DESCRIPTION:
ATTACH;FMTTYPE=image/jpeg:https://sintercafe.com/wp-content/uploads/2024/0
 6/Annette-Pensel-1.jpg
CATEGORIES:Friday
END:VEVENT
BEGIN:VTIMEZONE
TZID:America/Costa_Rica
X-LIC-LOCATION:America/Costa_Rica
BEGIN:STANDARD
DTSTART:20231116T143000
TZOFFSETFROM:-0600
TZOFFSETTO:-0600
TZNAME:CST
END:STANDARD
END:VTIMEZONE
END:VCALENDAR