BEGIN:VCALENDAR
VERSION:2.0
PRODID:-//wp-events-plugin.com//7.2.3.1//EN
BEGIN:VEVENT
UID:44@sintercafe.com
DTSTART;TZID=America/Costa_Rica:20241115T140000
DTEND;TZID=America/Costa_Rica:20241115T143000
DTSTAMP:20241011T190441Z
URL:https://sintercafe.com/events/hermosa-1-room-scaling-up-regenerative-a
 g-practices-through-partnerships-across-the-value-chain-escalar-practicas-
 de-agricultura-regenerativas-mediante-alianzas-a-lo-largo-de-la-cadena-mr/
SUMMARY:Hermosa 1 Room - "Scaling-up regenerative Ag practices through part
 nerships across the value chain" / "Mejorar prácticas de agricultura rege
 nerativas mediante alianzas a lo largo de la cadena" - Mrs. Cecila Valdes\
 , YARA
DESCRIPTION:
ATTACH;FMTTYPE=image/jpeg:https://sintercafe.com/wp-content/uploads/2024/0
 9/CeciliaValdes.jpg
CATEGORIES:Friday
END:VEVENT
BEGIN:VTIMEZONE
TZID:America/Costa_Rica
X-LIC-LOCATION:America/Costa_Rica
BEGIN:STANDARD
DTSTART:20231116T140000
TZOFFSETFROM:-0600
TZOFFSETTO:-0600
TZNAME:CST
END:STANDARD
END:VTIMEZONE
END:VCALENDAR