BEGIN:VCALENDAR
VERSION:2.0
PRODID:-//wp-events-plugin.com//7.2.3.1//EN
BEGIN:VEVENT
UID:42@sintercafe.com
DTSTART;TZID=America/Costa_Rica:20241115T080000
DTEND;TZID=America/Costa_Rica:20241115T090000
DTSTAMP:20240829T190813Z
URL:https://sintercafe.com/events/inspire-connect-next-gen-breakfast-priva
 te-event-by-invitation/
SUMMARY:Inspire & Connect Next Gen Breakfast (Private event\, by invitation
 )
DESCRIPTION:
ATTACH;FMTTYPE=image/jpeg:https://sintercafe.com/wp-content/uploads/2024/0
 8/calendario.png
CATEGORIES:Friday
END:VEVENT
BEGIN:VTIMEZONE
TZID:America/Costa_Rica
X-LIC-LOCATION:America/Costa_Rica
BEGIN:STANDARD
DTSTART:20231116T080000
TZOFFSETFROM:-0600
TZOFFSETTO:-0600
TZNAME:CST
END:STANDARD
END:VTIMEZONE
END:VCALENDAR