BEGIN:VCALENDAR
VERSION:2.0
PRODID:-//wp-events-plugin.com//7.2.3.1//EN
BEGIN:VEVENT
UID:25@sintercafe.com
DTSTART;TZID=America/Costa_Rica:20241115T093000
DTEND;TZID=America/Costa_Rica:20241115T100000
DTSTAMP:20241010T172541Z
URL:https://sintercafe.com/events/isabel-van-bemmelen-rabobank-acorn-wrr/
SUMMARY:"Fostering sustainable agriculture: Empowering farmers with Acorn's
  agroforestry transition\, deforestation checks (EUDR) and carbon measure
 ment\, for coffee farmers at scale" / "Fomentando la agricultura sostenibl
 e: Empoderando a los agricultores con la transición agroforestal de Acorn
 \, controles de deforestación (EUDR) y medición de carbono\, para agricu
 ltores de café a gran escala" - Mrs. Isabel van Bemmelen\, Rabobank Acorn
  -WRR"
DESCRIPTION:
ATTACH;FMTTYPE=image/jpeg:https://sintercafe.com/wp-content/uploads/2024/0
 6/Isabel-Van-Bemmelen.jpg
CATEGORIES:Friday
END:VEVENT
BEGIN:VTIMEZONE
TZID:America/Costa_Rica
X-LIC-LOCATION:America/Costa_Rica
BEGIN:STANDARD
DTSTART:20231116T093000
TZOFFSETFROM:-0600
TZOFFSETTO:-0600
TZNAME:CST
END:STANDARD
END:VTIMEZONE
END:VCALENDAR