BEGIN:VCALENDAR
VERSION:2.0
PRODID:-//wp-events-plugin.com//7.2.3.1//EN
BEGIN:VEVENT
UID:36@sintercafe.com
DTSTART;TZID=America/Costa_Rica:20241114T083000
DTEND;TZID=America/Costa_Rica:20241114T090000
DTSTAMP:20241113T222522Z
URL:https://sintercafe.com/events/kdp-drink-in-the-possibilities-the-power
 -of-partnership-mr-cyrille-janet-keurig/
SUMMARY:KDP – Drink In the Possibilities – the Power of Partnership / "
 KDP – Explorando las posibilidades – el poder de la Colaboración" - M
 r. Cyrille Jannet\, Keurig
DESCRIPTION:
ATTACH;FMTTYPE=image/jpeg:https://sintercafe.com/wp-content/uploads/2024/0
 6/Cyrille-Janet-1.jpg
CATEGORIES:Thursday
END:VEVENT
BEGIN:VTIMEZONE
TZID:America/Costa_Rica
X-LIC-LOCATION:America/Costa_Rica
BEGIN:STANDARD
DTSTART:20231115T083000
TZOFFSETFROM:-0600
TZOFFSETTO:-0600
TZNAME:CST
END:STANDARD
END:VTIMEZONE
END:VCALENDAR