BEGIN:VCALENDAR
VERSION:2.0
PRODID:-//wp-events-plugin.com//7.2.3.1//EN
BEGIN:VEVENT
UID:30@sintercafe.com
DTSTART;TZID=America/Costa_Rica:20241115T130000
DTEND;TZID=America/Costa_Rica:20241115T140000
DTSTAMP:20241010T172903Z
URL:https://sintercafe.com/events/lunch-2/
SUMMARY:LUNCH / ALMUERZO
DESCRIPTION:
ATTACH;FMTTYPE=image/jpeg:https://sintercafe.com/wp-content/uploads/2024/0
 7/restaurante.png
CATEGORIES:Friday
END:VEVENT
BEGIN:VTIMEZONE
TZID:America/Costa_Rica
X-LIC-LOCATION:America/Costa_Rica
BEGIN:STANDARD
DTSTART:20231116T130000
TZOFFSETFROM:-0600
TZOFFSETTO:-0600
TZNAME:CST
END:STANDARD
END:VTIMEZONE
END:VCALENDAR