BEGIN:VCALENDAR
VERSION:2.0
PRODID:-//wp-events-plugin.com//7.2.3.1//EN
BEGIN:VEVENT
UID:47@sintercafe.com
DTSTART;TZID=America/Costa_Rica:20241114T103000
DTEND;TZID=America/Costa_Rica:20241114T110000
DTSTAMP:20241106T201451Z
URL:https://sintercafe.com/events/manuel-antonio-room-workshop-learn-about
 -the-low-emission-coffee-project-and-the-traceability-plataform-taller-con
 ozca-sobre-el-proyecto-cafe-bajo-en-emisiones-y-su-plataforma-de-trazabili
 dad/
SUMMARY:Manuel Antonio Room: Workshop - Learn about the Low Emission Coffee
  project and the traceability plataform / Taller: Conozca sobre el proyect
 o Café Bajo en Emisiones y su plataforma de trazabilidad.
DESCRIPTION:
ATTACH;FMTTYPE=image/jpeg:https://sintercafe.com/wp-content/uploads/2024/0
 7/bolsa-de-cafe.png
CATEGORIES:Thursday
END:VEVENT
BEGIN:VTIMEZONE
TZID:America/Costa_Rica
X-LIC-LOCATION:America/Costa_Rica
BEGIN:STANDARD
DTSTART:20231115T103000
TZOFFSETFROM:-0600
TZOFFSETTO:-0600
TZNAME:CST
END:STANDARD
END:VTIMEZONE
END:VCALENDAR