BEGIN:VCALENDAR
VERSION:2.0
PRODID:-//wp-events-plugin.com//7.2.3.1//EN
BEGIN:VEVENT
UID:24@sintercafe.com
DTSTART;TZID=America/Costa_Rica:20241115T090000
DTEND;TZID=America/Costa_Rica:20241115T093000
DTSTAMP:20240914T200844Z
URL:https://sintercafe.com/events/marcos-matos-cecafe/
SUMMARY:"Brazilian Coffees: production\, exports and global trade challenge
 s" / "Cafés Brasileños: producción\, exportaciones y desafíos del come
 rcio global" - Marcos Matos\, CECAFE
DESCRIPTION:
ATTACH;FMTTYPE=image/jpeg:https://sintercafe.com/wp-content/uploads/2024/0
 6/Marcos-Matos1.jpg
CATEGORIES:Friday
END:VEVENT
BEGIN:VTIMEZONE
TZID:America/Costa_Rica
X-LIC-LOCATION:America/Costa_Rica
BEGIN:STANDARD
DTSTART:20231116T090000
TZOFFSETFROM:-0600
TZOFFSETTO:-0600
TZNAME:CST
END:STANDARD
END:VTIMEZONE
END:VCALENDAR