BEGIN:VCALENDAR
VERSION:2.0
PRODID:-//wp-events-plugin.com//7.2.3.1//EN
BEGIN:VEVENT
UID:26@sintercafe.com
DTSTART;TZID=America/Costa_Rica:20241115T100000
DTEND;TZID=America/Costa_Rica:20241115T104500
DTSTAMP:20241010T173513Z
URL:https://sintercafe.com/events/pavan-adarsh-olam-food-ingredients-coffe
 e-trading/
SUMMARY:"Coffee Fundamentals – Changing Paradigms" / “Fundamentos del C
 afé – Cambiando Paradigmas” - Pavan Adarsh\, Olam Food Ingredients’
  Coffee Trading
DESCRIPTION:
ATTACH;FMTTYPE=image/jpeg:https://sintercafe.com/wp-content/uploads/2024/0
 6/Pavan-Adarsh-1.jpg
CATEGORIES:Friday
END:VEVENT
BEGIN:VTIMEZONE
TZID:America/Costa_Rica
X-LIC-LOCATION:America/Costa_Rica
BEGIN:STANDARD
DTSTART:20231116T100000
TZOFFSETFROM:-0600
TZOFFSETTO:-0600
TZNAME:CST
END:STANDARD
END:VTIMEZONE
END:VCALENDAR