BEGIN:VCALENDAR
VERSION:2.0
PRODID:-//wp-events-plugin.com//7.2.3.1//EN
BEGIN:VEVENT
UID:34@sintercafe.com
DTSTART;TZID=America/Costa_Rica:20241115T140000
DTEND;TZID=America/Costa_Rica:20241115T143000
DTSTAMP:20241010T165920Z
URL:https://sintercafe.com/events/preparing-for-the-flood-strengthening-nu
 rsery-and-seed-systems-to-safeguard-genetic-gain-emilia-umana-world-coffee
 -research/
SUMMARY:Herradura Room - Preparing for the flood—strengthening nursery an
 d seed systems to safeguard genetic gain. / "Preparandonos para la inundac
 ión- fortaleciendo los sistemas de viveros y semillas para salvaguardar e
 l avance genético" - Emilia Umaña\, World Coffee Research
DESCRIPTION:
ATTACH;FMTTYPE=image/jpeg:https://sintercafe.com/wp-content/uploads/2024/0
 8/Emilia-Umana.jpg
CATEGORIES:Friday
END:VEVENT
BEGIN:VTIMEZONE
TZID:America/Costa_Rica
X-LIC-LOCATION:America/Costa_Rica
BEGIN:STANDARD
DTSTART:20231116T140000
TZOFFSETFROM:-0600
TZOFFSETTO:-0600
TZNAME:CST
END:STANDARD
END:VTIMEZONE
END:VCALENDAR