BEGIN:VCALENDAR
VERSION:2.0
PRODID:-//wp-events-plugin.com//7.2.3.1//EN
BEGIN:VEVENT
UID:15@sintercafe.com
DTSTART;TZID=America/Costa_Rica:20241114T110000
DTEND;TZID=America/Costa_Rica:20241114T113000
DTSTAMP:20241011T190304Z
URL:https://sintercafe.com/events/ricardo-oteros-supracafe/
SUMMARY:"Spanish market: Trends in Specialty Coffees and its value chains" 
 / "Mercado español: Tendencias en cafés especiales y su cadena de valor"
  - Mr. Ricardo Oteros\, SUPRACAFE
DESCRIPTION:
ATTACH;FMTTYPE=image/jpeg:https://sintercafe.com/wp-content/uploads/2024/0
 6/Ricardo-Oteros1-1.jpg
CATEGORIES:Thursday
END:VEVENT
BEGIN:VTIMEZONE
TZID:America/Costa_Rica
X-LIC-LOCATION:America/Costa_Rica
BEGIN:STANDARD
DTSTART:20231115T110000
TZOFFSETFROM:-0600
TZOFFSETTO:-0600
TZNAME:CST
END:STANDARD
END:VTIMEZONE
END:VCALENDAR