BEGIN:VCALENDAR
VERSION:2.0
PRODID:-//wp-events-plugin.com//7.2.3.1//EN
BEGIN:VEVENT
UID:18@sintercafe.com
DTSTART;TZID=America/Costa_Rica:20241114T133000
DTEND;TZID=America/Costa_Rica:20241114T140000
DTSTAMP:20240914T200156Z
URL:https://sintercafe.com/events/yannis-apostolopoulos-specialty-coffee-a
 ssociation/
SUMMARY:"Specialty Coffee in 2025 and Beyond: The Statistics and Trends dri
 ving Specialty Coffee" / "Café de especialidad en el 2025 y más allá: L
 as estadísticas y tendencias que impulsan el café de especialidad" - Yan
 nis Apostolopoulos\, Specialty Coffee Association
DESCRIPTION:
ATTACH;FMTTYPE=image/jpeg:https://sintercafe.com/wp-content/uploads/2024/0
 6/Yannis-Apostolopoulo-1.jpg
CATEGORIES:Thursday
END:VEVENT
BEGIN:VTIMEZONE
TZID:America/Costa_Rica
X-LIC-LOCATION:America/Costa_Rica
BEGIN:STANDARD
DTSTART:20231115T133000
TZOFFSETFROM:-0600
TZOFFSETTO:-0600
TZNAME:CST
END:STANDARD
END:VTIMEZONE
END:VCALENDAR